BEGIN:VCALENDAR
VERSION:2.0
PRODID:-//KLIMATSVERIGE - ECPv6.15.16//NONSGML v1.0//EN
CALSCALE:GREGORIAN
METHOD:PUBLISH
X-ORIGINAL-URL:https://klimatsverige.se
X-WR-CALDESC:Händelser för KLIMATSVERIGE
REFRESH-INTERVAL;VALUE=DURATION:PT1H
X-Robots-Tag:noindex
X-PUBLISHED-TTL:PT1H
BEGIN:VTIMEZONE
TZID:Europe/Paris
BEGIN:DAYLIGHT
TZOFFSETFROM:+0100
TZOFFSETTO:+0200
TZNAME:CEST
DTSTART:20190331T010000
END:DAYLIGHT
BEGIN:STANDARD
TZOFFSETFROM:+0200
TZOFFSETTO:+0100
TZNAME:CET
DTSTART:20191027T010000
END:STANDARD
BEGIN:DAYLIGHT
TZOFFSETFROM:+0100
TZOFFSETTO:+0200
TZNAME:CEST
DTSTART:20200329T010000
END:DAYLIGHT
BEGIN:STANDARD
TZOFFSETFROM:+0200
TZOFFSETTO:+0100
TZNAME:CET
DTSTART:20201025T010000
END:STANDARD
BEGIN:DAYLIGHT
TZOFFSETFROM:+0100
TZOFFSETTO:+0200
TZNAME:CEST
DTSTART:20210328T010000
END:DAYLIGHT
BEGIN:STANDARD
TZOFFSETFROM:+0200
TZOFFSETTO:+0100
TZNAME:CET
DTSTART:20211031T010000
END:STANDARD
END:VTIMEZONE
BEGIN:VTIMEZONE
TZID:Europe/Stockholm
BEGIN:DAYLIGHT
TZOFFSETFROM:+0100
TZOFFSETTO:+0200
TZNAME:CEST
DTSTART:20190331T010000
END:DAYLIGHT
BEGIN:STANDARD
TZOFFSETFROM:+0200
TZOFFSETTO:+0100
TZNAME:CET
DTSTART:20191027T010000
END:STANDARD
BEGIN:DAYLIGHT
TZOFFSETFROM:+0100
TZOFFSETTO:+0200
TZNAME:CEST
DTSTART:20200329T010000
END:DAYLIGHT
BEGIN:STANDARD
TZOFFSETFROM:+0200
TZOFFSETTO:+0100
TZNAME:CET
DTSTART:20201025T010000
END:STANDARD
BEGIN:DAYLIGHT
TZOFFSETFROM:+0100
TZOFFSETTO:+0200
TZNAME:CEST
DTSTART:20210328T010000
END:DAYLIGHT
BEGIN:STANDARD
TZOFFSETFROM:+0200
TZOFFSETTO:+0100
TZNAME:CET
DTSTART:20211031T010000
END:STANDARD
END:VTIMEZONE
BEGIN:VEVENT
DTSTART;TZID=Europe/Paris:20201117T183000
DTEND;TZID=Europe/Paris:20201117T203000
DTSTAMP:20260419T184336
CREATED:20201009T051401Z
LAST-MODIFIED:20201009T051450Z
UID:31497-1605637800-1605645000@klimatsverige.se
SUMMARY:Bli klimatinspiratör - webkurs för dig i Norrbotten
DESCRIPTION:En webkurs för dig som vill driva på för ett klimatneutralt Norrbotten.\nTid: 10 nov\, 17 nov\, 24 nov\, 1 dec\, kl 18.30 – 20.30\nVill du prata med människor om den globala uppvärmningen och vad vi kan göra åt saken? Vill du inspirera andra att engagera sig för en hållbar omställning av Norrbotten och hela landet – i det lilla och i det stora? Du behöver inte vara expert för att visa vägen. Det viktigaste är ditt engagemang. Med den här utbildningen får du en grund för att prata klimat och bli en inspiratör för omställning.\nMaterialet och arbetssättet kan användas i träffar med goda vänner eller tjocka släkten\, i ett föredrag på ortens bibliotek\, på arbetsplatsen\, eller i en studiecirkel.\nKursen innehåller 3 delar: En faktadel om klimatförändringarna och dess utmaningar och tänkbara lösningar\, en del om hur vi pratar med andra om klimatförändringarna samt en del om hur vi skall bli många som arbetar med klimatfrågan\, med handlingsplaner för hur du/ni går vidare efter kursen.\nAnmäl dig senast 5 november till pia.bjorstrand@klimataktion.se\nDeltagaravgift 150 kr\, Betala till Bankgiro är 286-2423. eller SWISH 1235124094\nBetala senast 5 november. Länk till webkursen skickas ut efter anmälan.\nKursledare: Torbjörn Vennström
URL:https://klimatsverige.se/event/bli-klimatinspirator-webkurs-for-dig-i-norrbotten-2020-11-17/
CATEGORIES:I nätverket
ATTACH;FMTTYPE=image/jpeg:https://klimatsverige.se/wp-content/uploads/2020/10/Bli-klimatinspiratör.jpg
END:VEVENT
BEGIN:VEVENT
DTSTART;TZID=Europe/Stockholm:20201117T100000
DTEND;TZID=Europe/Stockholm:20201117T160000
DTSTAMP:20260419T184336
CREATED:20201112T203622Z
LAST-MODIFIED:20201112T203659Z
UID:34354-1605607200-1605628800@klimatsverige.se
SUMMARY:Choosing Green
DESCRIPTION:How sustainable is the Nordic region? Are we still climate frontrunners or are we lagging behind? What is a Nordic approach to a green future\, and what are our blind spots? \nJoin us for a digital one-day event hosted by the Nordic Council and broadcast by We Don´t Have Time. \nKeynotes and panel discussions will feature members of the Nordic Council\, the European parliament\, high-profiled scientists\, organizational leaders and company CEOs.\nThe summit is free of charge and open to the public. You are welcome to join the debate in the We Don’t Have Time app
URL:https://klimatsverige.se/event/choosing-green-2020-11-17/
CATEGORIES:I nätverket
ATTACH;FMTTYPE=image/png:https://klimatsverige.se/wp-content/uploads/2020/09/wedonthavetime-2-line-rgb-p-500.png
ORGANIZER;CN="We don%E2%80%99t Have Time":MAILTO:info@wedonthavetime.org
END:VEVENT
BEGIN:VEVENT
DTSTART;TZID=Europe/Paris:20201112T120000
DTEND;TZID=Europe/Paris:20201112T130000
DTSTAMP:20260419T184336
CREATED:20201104T060615Z
LAST-MODIFIED:20201104T060615Z
UID:33511-1605182400-1605186000@klimatsverige.se
SUMMARY:Lansering 12 nov: Inför rätta – juridikens roll i klimatkampen
DESCRIPTION:Stater och företag som inte följer internationella bestämmelser om klimatpåverkan ställs allt oftare inför rätta i domstol. Utvecklingen är positiv\, då det visar att det går att utkräva ansvar från aktörer som inte följer sina klimatåtaganden. Dessutom får rätten till ett hälsosamt klimat allt mer status som en mänsklig rättighet. \nTillsammans med European Liberal Forum ger Fores nu ut “See you in court – the effectiveness of litigation as a climate tool”\, med förord av Ruben Henriksson\, tf chef för Klimatprogrammet\, Fores. I boken går författare Kristina Forsbacka igenom fyra uppmärksammade rättsfall där organisationer\, delägare i företag och enskilda medborgare har ställt länder och företag inför rätta på grund av deras bristande hänsyn till klimatet. \nMest känt är fallet Nederländerna v. Urgenda\, där staten stämdes för att inte ha minskat sina utsläpp tillräckligt snabbt och därmed försatt kommande generationer i fara. Fallet gick till högsta domstol där Nederländerna dömdes att sänka sina utsläpp med 25% till 2020\, jämfört med 1990 års nivåer\, med motiveringen att landet var skyldig att värna om dess invånares mänskliga rättigheter. \nUnder lanseringen kommer vi med en expertpanel djupdyka i de rättsfall som tas upp i boken\, och diskutera vilken roll juridik kan komma att spela i framtida klimatarbete. \nMedverkande\nKristina Forsbacka\, Ph.D. Student (Law)\, Luleå universitet\, författare till “See you in court”\nOscar Alarik\, chefsjurist\, Naturskyddsföreningen\nÅsa Romson\, senior expert och forskare på Svenska miljöinstitutet\, jur.dr i miljörätt\, f.d. klimat- och miljöminister och f.d. vice statsminister\nKoos van der Berg\, jurist\, partner på Höcker Advocaten\, advokat i Urgenda-fallet \nModerator är Ruben Henriksson\, tf chef\, Klimatprogrammet\, Fores. \nAnmälan\nAnmäl dig här! \nLivestream\nSeminariet kommer sändas live och går att se i efterhand på Fores Youtube. \nKontakt\nHar du frågor om seminariet\, vänligen kontakta Malin Wolters.
URL:https://klimatsverige.se/event/lansering-12-nov-infor-ratta-juridikens-roll-i-klimatkampen-2020-11-12/
CATEGORIES:I nätverket
END:VEVENT
BEGIN:VEVENT
DTSTART;TZID=Europe/Paris:20201110T183000
DTEND;TZID=Europe/Paris:20201110T203000
DTSTAMP:20260419T184336
CREATED:20201009T050628Z
LAST-MODIFIED:20201009T051455Z
UID:31494-1605033000-1605040200@klimatsverige.se
SUMMARY:Bli klimatinspiratör - webkurs för dig i Norrbotten
DESCRIPTION:En webkurs för dig som vill driva på för ett klimatneutralt Norrbotten.\nTid: 10 nov\, 17 nov\, 24 nov\, 1 dec\, kl 18.30 – 20.30\nVill du prata med människor om den globala uppvärmningen och vad vi kan göra åt saken? Vill du inspirera andra att engagera sig för en hållbar omställning av Norrbotten och hela landet – i det lilla och i det stora? Du behöver inte vara expert för att visa vägen. Det viktigaste är ditt engagemang. Med den här utbildningen får du en grund för att prata klimat och bli en inspiratör för omställning.\nMaterialet och arbetssättet kan användas i träffar med goda vänner eller tjocka släkten\, i ett föredrag på ortens bibliotek\, på arbetsplatsen\, eller i en studiecirkel.\nKursen innehåller 3 delar: En faktadel om klimatförändringarna och dess utmaningar och tänkbara lösningar\, en del om hur vi pratar med andra om klimatförändringarna samt en del om hur vi skall bli många som arbetar med klimatfrågan\, med handlingsplaner för hur du/ni går vidare efter kursen.\nAnmäl dig senast 5 november till pia.bjorstrand@klimataktion.se\nDeltagaravgift 150 kr\, Betala till Bankgiro är 286-2423. eller SWISH 1235124094\nBetala senast 5 november. Länk till webkursen skickas ut efter anmälan.\nKursledare: Torbjörn Vennström
URL:https://klimatsverige.se/event/bli-klimatinspirator-webkurs-for-dig-i-norrbotten-2020-11-10/
CATEGORIES:I nätverket
ATTACH;FMTTYPE=image/jpeg:https://klimatsverige.se/wp-content/uploads/2020/10/Bli-klimatinspiratör.jpg
END:VEVENT
BEGIN:VEVENT
DTSTART;TZID=Europe/Paris:20201105T190000
DTEND;TZID=Europe/Paris:20201105T200000
DTSTAMP:20260419T184336
CREATED:20201101T063556Z
LAST-MODIFIED:20201101T063615Z
UID:33271-1604602800-1604606400@klimatsverige.se
SUMMARY:Webbinarium: Dags för fossilfria pensioner!
DESCRIPTION:Vi befinner oss i en klimatkris där det borde vara självklart att våra pensionspengar inte är investerade i bolag som utvinner eller förbränner kol\, olja eller fossilgas. För vad ska vi med pension till om vår värld förstörs?\nNaturskyddsföreningens granskning av de svenska AP-fonderna visar att fonderna har placerat flera miljarder av våra gemensamma pensionspengar i världens största fossila bolag. Investeringarna är inte bara klimatskadliga\, utan riskerar också att orsaka förödelse för människor som bor kring till exempel kolgruvor och oljefält.\nMEDVERKANDE:\n– Henrik Brandão Jönsson\, journalist som besökt en kolgruva i Colombia där svenska pensionsfonder är investerade.\n– Maria Georgieva\, journalist som besökt ett olje- och gasfält i Kazakstan där svenska pensionsfonder är investerade.\n– Anna Östergren\, sakkunnig klimatfrågor på Naturskyddsföreningen.\nMODERATOR:\n– Kerstin Edquist\, Naturskyddsföreningen.\nPå grund av covid-19 är seminariet digitalt och äger rum på zoom. Det kommer finnas möjlighet att ställa skriftliga frågor under seminariets gång.\nANMÄL DIG senast den 2 november via den här länken: https://naturskyddsforeningen.wufoo.com/…/zfivzcu048aaak/\nWebbinariet spelas även in så att det kan ses i efterhand.\nFör mer information om AP-fondernas fossila investeringar. Se vår kampanjsida och skriv under namninsamligen: https://www.naturskyddsforeningen.se/fossilfria-pensioner
URL:https://klimatsverige.se/event/webbinarium-dags-for-fossilfria-pensioner-2020-11-05/
CATEGORIES:I nätverket
ATTACH;FMTTYPE=image/jpeg:https://klimatsverige.se/wp-content/uploads/2020/11/Dags-för-fossilfria-pensioner.jpg
END:VEVENT
BEGIN:VEVENT
DTSTART;TZID=Europe/Paris:20201105T180000
DTEND;TZID=Europe/Paris:20201105T200000
DTSTAMP:20260419T184336
CREATED:20191201T195905Z
LAST-MODIFIED:20201009T052125Z
UID:10666-1604599200-1604606400@klimatsverige.se
SUMMARY:Vegoforum 2020
DESCRIPTION:Vegoforum är ett kunskapsforum där forskare\, experter\, opinionsbildare och politiker föreläser och samtalar om fördelarna med vegomat. \nDet är också en mötesplats för dig som vill träffa andra vegointresserade och knyta kontakter inom vegovärlden. Forumet riktar sig mot alla: från den som är nyfiken på vego till den som är aktiv inom vegorörelsen. \nUnder 2020 kommer vi att ha hela 4 forumdagar med olika teman. Dessutom kommer vi att ha en serie öppna demokratiworkshoppar\, där du lär dig mer om hur du kan vara med och uppmuntra och påverka politiken i vegovänligare riktning. \nVegoforum arrangeras av Svensk mat- och miljöinformation\, Vegonorm och ABF Stockholm. Forumet är helt kostnadsfritt. \nVegoforum 2020:1 | Vego i skolan\nhttps://www.facebook.com/events/577319629686410/ \nVegoforum 2020:1 | Demokratiworkshop Vego i skolan\nhttps://www.facebook.com/events/584370875669375/ \nVegoforum 2020:2 | Vego och djurrätt i journalistiken\nhttps://www.facebook.com/events/3109997919225318/ \nVegoforum 2020:2 | Workshop Vego och djurrätt i journalistiken\nhttps://www.facebook.com/events/496361074562705/ \nVegoforum 2020:3 | Vego i politiken\nhttps://www.facebook.com/events/2479444585426148/ \nVegoforum 2020:3 | Demokratiworkshop Vego i politiken\nhttps://www.facebook.com/events/415438052695163/ \nVegoforum 2020:4 | Vegomaten tar över\nhttps://www.facebook.com/events/766326870505653/ \nVegoforum 2020:4 | Demokratiworkshop Vegomaten tar över\nhttps://www.facebook.com/events/806362756473048/ \nVarmt välkommen!\nhttp://vegoforum.se
URL:https://klimatsverige.se/event/vegoforum-2020-11-05/
LOCATION:ABF Stockholm\, Sveavägen 41\, Stockholm\, 11183\, Sverige
CATEGORIES:I nätverket
ATTACH;FMTTYPE=image/jpeg:https://klimatsverige.se/wp-content/uploads/2019/12/Vegoforum-2020.jpg
END:VEVENT
BEGIN:VEVENT
DTSTART;TZID=Europe/Paris:20201103T123000
DTEND;TZID=Europe/Paris:20201103T131500
DTSTAMP:20260419T184336
CREATED:20201029T163255Z
LAST-MODIFIED:20201029T163255Z
UID:33078-1604406600-1604409300@klimatsverige.se
SUMMARY:Klimatriksdagen släpper specialrapport om biodrivmedel
DESCRIPTION:Klimatriksdagen har tagit fram en rapport om klimatnyttan med regeringens stora satsning på biodrivmedel. I rapporten diskuteras huruvida den förda politiken verkligen bidrar till att vi når klimatmålen\, eller om vi rent av går åt fel håll? Och hur avgörande är tidsaspekten? \nVår ordförande Jonas Bane presenterar rapporten tillsammans med rapportförfattare Lars Schütt som kommer finnas närvarande för att svara på frågor. \nVi hoppas kunna följa upp den här rapporten med fler specialrapporter som kompletterar Klimatriksdagens akutplan med fördjupade analyser av viktiga klimatpolitiska frågor \nTid: 3 nov kl. 12.30 – 13.15 (OBS ändrad tid) \nAnmäl dig via detta formulär.  Länk till zoom skickas ut samma förmiddag. Mötesrummet kommer även öppnas upp 15 min innan starttid för att ge tid till justering av var och ens inställningar.
URL:https://klimatsverige.se/event/klimatriksdagen-slapper-specialrapport-om-biodrivmedel-2020/
CATEGORIES:I nätverket
ATTACH;FMTTYPE=image/jpeg:https://klimatsverige.se/wp-content/uploads/2020/10/Biodriv-768x402-1.jpg
END:VEVENT
BEGIN:VEVENT
DTSTART;TZID=Europe/Paris:20201026T180000
DTEND;TZID=Europe/Paris:20201026T200000
DTSTAMP:20260419T184336
CREATED:20201016T173845Z
LAST-MODIFIED:20201016T173940Z
UID:32062-1603735200-1603742400@klimatsverige.se
SUMMARY:Onlineträning klimatsamtal – från hopplöshet till handlingskraft
DESCRIPTION:Vill du träna eko-civilkurage och klimatsamtal?\nJa\, klart du vill – för det är genom samtal som vi kan förändra världen!\nDen 26 november kl 18 – 20 arrangerar Klimatprata en träning på temat ”Från hopplöshet till handlingskraft” – hur gör vi det? Träningen kommer ske på zoom. Föranmälan krävs för att du ska få länken. Du anmäler dig här: https://forms.gle/ftWz3Eh3dDPAm3Av6\nOm Klimatpratas träningar\nI våra träningar använder oss av dialogövningar och rollspel för att utforska samtalstekniker kring hur vi kan skapa vardagliga samtal som generar handling för klimatet och klimatrörelsen.\nVi tränar oss på att bryta tystnadskultur\, utmana maktlöshet\, uppgivenhet och härskartekniker som finns kring klimatsamtal. Vi tränar oss på att ingripa mot greenwashing\, teknik-fetischism och slit-och-släng-normer för att istället skapa mer ekologiska normer. Vi vill omvandla problematiska klimatsamtal till att istället väcka intresse\, engagemang\, kollektiv organisering och agerande.\nKlimatprata är ett projekt som drivs av Vardagens civilkurage\, en ungdomsorganisation som tränar på att ingripa mot orättvisor och förtryck i våra vardagar. Vi arbetar för mer jämlikhet\, demokrati\, och ett aktivistiskt medborgarskap. Läs mer om oss på www.klimatprata.se.\nDet är gratis att delta i träningen och alla åldrar är välkomna att delta.\nHar du frågor? Välkommen att mejla oss på hej@klimatprata.se
URL:https://klimatsverige.se/event/onlinetraning-klimatsamtal-fran-hopploshet-till-handlingskraft-2020-10-26/
CATEGORIES:I nätverket
ATTACH;FMTTYPE=image/jpeg:https://klimatsverige.se/wp-content/uploads/2020/10/klimatsamtal-–-från-hopplöshet-till-handlingskraft.jpg
ORGANIZER;CN="Klimatprata":MAILTO:vardagsklimatet@vardagenscivilkurage.se
END:VEVENT
BEGIN:VEVENT
DTSTART;TZID=Europe/Paris:20201024T120000
DTEND;TZID=Europe/Paris:20201024T160000
DTSTAMP:20260419T184336
CREATED:20191201T195243Z
LAST-MODIFIED:20201009T052009Z
UID:10662-1603540800-1603555200@klimatsverige.se
SUMMARY:Vegoforum 2020
DESCRIPTION:Vegoforum är ett kunskapsforum där forskare\, experter\, opinionsbildare och politiker föreläser och samtalar om fördelarna med vegomat. \nDet är också en mötesplats för dig som vill träffa andra vegointresserade och knyta kontakter inom vegovärlden. Forumet riktar sig mot alla: från den som är nyfiken på vego till den som är aktiv inom vegorörelsen. \nUnder 2020 kommer vi att ha hela 4 forumdagar med olika teman. Dessutom kommer vi att ha en serie öppna demokratiworkshoppar\, där du lär dig mer om hur du kan vara med och uppmuntra och påverka politiken i vegovänligare riktning. \nVegoforum arrangeras av Svensk mat- och miljöinformation\, Vegonorm och ABF Stockholm. Forumet är helt kostnadsfritt. \nVegoforum 2020:1 | Vego i skolan\nhttps://www.facebook.com/events/577319629686410/ \nVegoforum 2020:1 | Demokratiworkshop Vego i skolan\nhttps://www.facebook.com/events/584370875669375/ \nVegoforum 2020:2 | Vego och djurrätt i journalistiken\nhttps://www.facebook.com/events/3109997919225318/ \nVegoforum 2020:2 | Workshop Vego och djurrätt i journalistiken\nhttps://www.facebook.com/events/496361074562705/ \nVegoforum 2020:3 | Vego i politiken\nhttps://www.facebook.com/events/2479444585426148/ \nVegoforum 2020:3 | Demokratiworkshop Vego i politiken\nhttps://www.facebook.com/events/415438052695163/ \nVegoforum 2020:4 | Vegomaten tar över\nhttps://www.facebook.com/events/766326870505653/ \nVegoforum 2020:4 | Demokratiworkshop Vegomaten tar över\nhttps://www.facebook.com/events/806362756473048/ \nVarmt välkommen!\nhttp://vegoforum.se
URL:https://klimatsverige.se/event/vegoforum-2020-10-24/
LOCATION:ABF Stockholm\, Sveavägen 41\, Stockholm\, 11183\, Sverige
CATEGORIES:I nätverket
ATTACH;FMTTYPE=image/jpeg:https://klimatsverige.se/wp-content/uploads/2019/12/Vegoforum-2020.jpg
END:VEVENT
BEGIN:VEVENT
DTSTART;TZID=Europe/Paris:20201017T100000
DTEND;TZID=Europe/Paris:20201018T140000
DTSTAMP:20260419T184336
CREATED:20201009T050021Z
LAST-MODIFIED:20201009T051827Z
UID:31489-1602928800-1603029600@klimatsverige.se
SUMMARY:Naturbrukskonferens 2020
DESCRIPTION:Mat\, naturbruk och klimat på Naturbrukskonferensen 2020\nNaturbrukskonferensen helgen 17 – 18 oktober 2021\nFalun och online\nLördag\nKl 10-10:30 Check-in\, välkommen\nkl 10.30-13 Unga som odlar\nMaximilian Isendahl\nHannes Norr\, m.fl.\nHälsningar från olika initiativ \nkl 14-16 Skog\nSkogen och EU-initiativ för att göra skogspolitiken överstatlig. Torgny Östling\, ordförande NOrdBruk\, representant för europeiska Via Campesina i EU-förhandlingar om skogsbruket 15 min.\nFrågor och diskussion 15 min.\nSebastian Kirppus film\, skog & biologisk mångfald 22 min.\nAlternativt Rebecka Le Moine tillfrågad\nDialog brukare och naturskyddare 45 min:\nKort intro 5 min. – Dag Fredriksson och småbrukare\nSmågrupper\, hur få balans mellan bruka och skydda? 25 min.\nStorgrupp 15 min.\nPaus 15 min. \nKl 16.00-18.00 Internationellt\nBoken Back to basics med internationell perspektiv\, Torgny Östling\, NOrdBruk\nFöreläsning med frågor 40 min.\nInternationell matkapitalism – rapporter från webbinarier Trygg mat med EU:s gröna giv?\, Vi kan inte äta pengar – ändra systemen för handel och finanser samt EU:s handelsavtal med Mercosur. 20 min.\nKorta kommentarer från organisationer och individer som har varit aktiva i Makten över Maten och Naturbrukskonferensen 20 min\nRunda – Vad gör vi för att ändra systemet? 40 min. \nSöndag \nKl 9.00 – 11.00 Naturbruket och klimatet hänger ihop!\nKajsa Pira\, Air Pollution and Climate Secretariat\, Lund\nEllie Cijvat\, Jordens Vänner\n20 min. var\nKorta kommentarer:\nKlimatriksdagen\, Fridays for Future\, Omställningsrörelsen\, Jordens Vänner\, Via Campesina tillfrågade 20 min\nSmågrupper 30 min.\nÅtersamling – lösningar för klimatkrisen 30 min. \nKl 11.30 – 13.30 Mat och jordbruk\n– inklusive civil beredskap\nThomas Gunnarsson\, sekreterare Familjejordbrukarna: Skatter och ekonomiska villkor för att bevara jordbruket\nJonas Wangsten\, ordförande Sveriges Småbrukare: Stor nog\nThorsten Laxvik\, ordförande Rafnaslakt och medlem i Byakademin: Samförsörjning\nAnders Persson: Potatisuppropet och Föreningen Närjord\, Söderhamn\n15 min. var\nKorta kommentarer från organisationer och individer som har varit aktiva i Makten över Maten och Naturbrukskonferensen. 20 min\nSmågrupper – hur går vi vidare? 40 min. \n13:30-14 Avslutning\nWebbinarerna på temana ”Trygg mat med EU:s gröna giv?” och ”Vi kan inte äta pengar” – som förberedelse för Naturbrukskonferensen finns på nätet: https://folkochfred.wordpress.com/2020/09/20/webbinarier-infor-naturbrukskonferensen/\nVi rekommenderar också folkbildande dokumentärer gjorda av Deutsche Welle med engelsk speaker om hur EU och globala matsystemet slår ut bönder både i EU och länder i Syd. Om mjölk: https://folkochfred.wordpress.com/. Om spannmål: https://www.youtube.com/watch?v=dv3hSNhRaNU Om grisproduktion och sojaodling: https://www.youtube.com/watch?v=ksrc7eI3IMY\nInformation om onlinedeltagande kommer innan konferensen läggas upp i detta facebookevent: https://www.facebook.com/events/247800316205456 \nVill du vara med i Falun eller få mer information kontakta: \nEddie Olsson\neddie.olsson@gmail.com\, 072 923 48 90 \nVälkommen till Naturbrukskonferensen 2020 om mat\, naturbruk och klimatet helgen 17- 18 oktober. Mötet ordnas av organisationer inom matsuveränitetsnätverket där miljö-\, småbrukar- och solidaritetsrörelsen deltar och andra likasinnade inom fredsrörelsen och andra folkrörelser.\nMötet planeras att hållas på Lindsberg utanför Falun med gott om utrymme och kapacitet för både fysiskt träff och deltagande på distans.\nSyftet är att fortsätta arbetet för matsuveränitet och stärka biologiska mångfaldsfrågan i klimatpolitiken och försvaret av skogsbruket och jordbruket med ett systemkritiskt omställningsperspektiv. Mer specificerat program kommer senare. \nNaturbrukskonferensen kommer förberedas med hjälp av webbinarier om mat och EU:s nya gröna giv samt om vilka förändringar som behövs av handelsavtal och finanssystemet för att naturbruket ska bli hållbart.\nNamninsamlingen Utan bönder ingen civil beredskap startad av småbrukarorganisationerna\, Jordens Vänner och solidaritetsorganisationer kommer pågå under förberedlsetiden med stöd också av fredsrörelsen. Slutdatum för namninsamlingen är på FN:s internationella livsmedelsdag 16 oktober då den överlämnas till regeringen. Vi uppmanar dig att skriva under och sprida uppropet till andra. https://www.skrivunder.com/utan_bonder_ingen_civil_beredskap \nNaturbrukskonferenserna har hållits på olika platser runtom i Sverige sedan 2010\, du kan läsa mer om detta på konferensens hemsida som länkas till ovan. \nFör mer information kontakta:\nEddie Olsson\neddie.olsson@gmail.com\, 072 923 48 90
URL:https://klimatsverige.se/event/naturbrukskonferens-2020/
CATEGORIES:I nätverket
ATTACH;FMTTYPE=image/jpeg:https://klimatsverige.se/wp-content/uploads/2020/10/Naturbrukskonferensen.jpg
ORGANIZER;CN="N%C3%A4tverket Folk och Fred":MAILTO:folkochfred@gmail.com
END:VEVENT
BEGIN:VEVENT
DTSTART;TZID=Europe/Paris:20201003T130000
DTEND;TZID=Europe/Paris:20201003T160000
DTSTAMP:20260419T184336
CREATED:20200704T164059Z
LAST-MODIFIED:20201009T052054Z
UID:22547-1601730000-1601740800@klimatsverige.se
SUMMARY:Digital inspirationsdag för lokal klimataktivism 3 oktober
DESCRIPTION:Digital inspirationsdag för lokal klimataktivism 3 oktober\nFOLK (FOrum för Lokal Klimataktivism) är Klimatriksdagens mötesplats för grupper som driver lokalt klimatarbete. Vi samverkar med andra rörelser och aktörer för att nå brett geografiskt och socialt. \nFOLK vill bjuda in er till en digital inspirationsdag lördag den 3 oktober 2020 kl 13-16  där lokala grupper kan presentera sig för varann och få information om Klimatriksdagens akutplan för klimatomställning. Vi pratar också om Coronakrisens konsekvenser och möjligheter till att driva på för en rättvis omställning till ett hållbart Sverige. En viktig fråga här är hur vi stärker lokala samhällens motståndskraft. \nVi presenterar goda exempel på lokalt påverkansarbete och omställningsprojekt från några håll. Diskussioner i smågrupper. \nAnmäl er via denna länk.
URL:https://klimatsverige.se/event/digital-inspirationsdag-lokal-klimataktivism-2020-10-03/
CATEGORIES:I nätverket
ATTACH;FMTTYPE=image/jpeg:https://klimatsverige.se/wp-content/uploads/2020/07/folk-bild-crop.jpg
END:VEVENT
BEGIN:VEVENT
DTSTART;TZID=Europe/Paris:20201001T180000
DTEND;TZID=Europe/Paris:20201001T200000
DTSTAMP:20260419T184336
CREATED:20191201T195002Z
LAST-MODIFIED:20201009T052108Z
UID:10660-1601575200-1601582400@klimatsverige.se
SUMMARY:Vegoforum 2020
DESCRIPTION:Vegoforum är ett kunskapsforum där forskare\, experter\, opinionsbildare och politiker föreläser och samtalar om fördelarna med vegomat. \nDet är också en mötesplats för dig som vill träffa andra vegointresserade och knyta kontakter inom vegovärlden. Forumet riktar sig mot alla: från den som är nyfiken på vego till den som är aktiv inom vegorörelsen. \nUnder 2020 kommer vi att ha hela 4 forumdagar med olika teman. Dessutom kommer vi att ha en serie öppna demokratiworkshoppar\, där du lär dig mer om hur du kan vara med och uppmuntra och påverka politiken i vegovänligare riktning. \nVegoforum arrangeras av Svensk mat- och miljöinformation\, Vegonorm och ABF Stockholm. Forumet är helt kostnadsfritt. \nVegoforum 2020:1 | Vego i skolan\nhttps://www.facebook.com/events/577319629686410/ \nVegoforum 2020:1 | Demokratiworkshop Vego i skolan\nhttps://www.facebook.com/events/584370875669375/ \nVegoforum 2020:2 | Vego och djurrätt i journalistiken\nhttps://www.facebook.com/events/3109997919225318/ \nVegoforum 2020:2 | Workshop Vego och djurrätt i journalistiken\nhttps://www.facebook.com/events/496361074562705/ \nVegoforum 2020:3 | Vego i politiken\nhttps://www.facebook.com/events/2479444585426148/ \nVegoforum 2020:3 | Demokratiworkshop Vego i politiken\nhttps://www.facebook.com/events/415438052695163/ \nVegoforum 2020:4 | Vegomaten tar över\nhttps://www.facebook.com/events/766326870505653/ \nVegoforum 2020:4 | Demokratiworkshop Vegomaten tar över\nhttps://www.facebook.com/events/806362756473048/ \nVarmt välkommen!\nhttp://vegoforum.se
URL:https://klimatsverige.se/event/vegoforum-2020-10-01/
LOCATION:ABF Stockholm\, Sveavägen 41\, Stockholm\, 11183\, Sverige
CATEGORIES:I nätverket
ATTACH;FMTTYPE=image/jpeg:https://klimatsverige.se/wp-content/uploads/2019/12/Vegoforum-2020.jpg
END:VEVENT
BEGIN:VEVENT
DTSTART;VALUE=DATE:20200424
DTEND;VALUE=DATE:20200425
DTSTAMP:20260419T184336
CREATED:20200115T064627Z
LAST-MODIFIED:20200409T084741Z
UID:10800-1587686400-1587772799@klimatsverige.se
SUMMARY:Global Strike 24 april blir virtuell!
DESCRIPTION:24:e april var tanken att hålla  jättedemonstrationer för klimatet i Stockholm och på många andra platser i Sverige och världen..\nNu blir det istället ett jättestort Worldwide Web Marathon med Online climate program\, Music\, Talks\, Videos\, Fun! Häng på! \nhttps://actionnetwork.org/events/24-hours-on-the-24th-join-fridaysforfuture-global-round-the-clock-online-climate-program-music-talks-videos-fun
URL:https://klimatsverige.se/event/global-skolstrejk-for-klimatet-24-april-2020/
CATEGORIES:I nätverket
ATTACH;FMTTYPE=image/jpeg:https://klimatsverige.se/wp-content/uploads/2020/01/Skolstrejk-för-Klimatet.jpg
ORGANIZER;CN="FridaysForFuture":MAILTO:Sweden@fridaysforfuture.org
END:VEVENT
END:VCALENDAR