BEGIN:VCALENDAR
VERSION:2.0
PRODID:-//KLIMATSVERIGE - ECPv6.15.16//NONSGML v1.0//EN
CALSCALE:GREGORIAN
METHOD:PUBLISH
X-WR-CALNAME:KLIMATSVERIGE
X-ORIGINAL-URL:https://klimatsverige.se
X-WR-CALDESC:Händelser för KLIMATSVERIGE
REFRESH-INTERVAL;VALUE=DURATION:PT1H
X-Robots-Tag:noindex
X-PUBLISHED-TTL:PT1H
BEGIN:VTIMEZONE
TZID:Europe/Stockholm
BEGIN:DAYLIGHT
TZOFFSETFROM:+0100
TZOFFSETTO:+0200
TZNAME:CEST
DTSTART:20240331T010000
END:DAYLIGHT
BEGIN:STANDARD
TZOFFSETFROM:+0200
TZOFFSETTO:+0100
TZNAME:CET
DTSTART:20241027T010000
END:STANDARD
BEGIN:DAYLIGHT
TZOFFSETFROM:+0100
TZOFFSETTO:+0200
TZNAME:CEST
DTSTART:20250330T010000
END:DAYLIGHT
BEGIN:STANDARD
TZOFFSETFROM:+0200
TZOFFSETTO:+0100
TZNAME:CET
DTSTART:20251026T010000
END:STANDARD
BEGIN:DAYLIGHT
TZOFFSETFROM:+0100
TZOFFSETTO:+0200
TZNAME:CEST
DTSTART:20260329T010000
END:DAYLIGHT
BEGIN:STANDARD
TZOFFSETFROM:+0200
TZOFFSETTO:+0100
TZNAME:CET
DTSTART:20261025T010000
END:STANDARD
END:VTIMEZONE
BEGIN:VEVENT
DTSTART;TZID=Europe/Stockholm:20250913T130000
DTEND;TZID=Europe/Stockholm:20250913T130000
DTSTAMP:20260422T050343
CREATED:20250810T114416Z
LAST-MODIFIED:20250810T114416Z
UID:136475-1757768400-1757768400@klimatsverige.se
SUMMARY:13 Sep Klimatmarsch i Göteborg – ett år kvar till klimatvalet
DESCRIPTION:Samling kl 13 på Järntorget\, marschen går till Gustav Adolfs Torg. Lördag den 13 september är det exakt ett år kvar till valet 2026. I Göteborg inleds valåret med en gemensam klimatmarsch för att kräva klimatpolitik som fungerar. Parisavtalet gäller! Utsläppen måste snabbt minska! Läs mer i Klimatkalendern.
URL:https://klimatsverige.se/event/13-sep-klimatmarsch-i-goteborg-ett-ar-kvar-till-klimatvalet/
END:VEVENT
BEGIN:VEVENT
DTSTART;TZID=Europe/Stockholm:20250911T160000
DTEND;TZID=Europe/Stockholm:20250911T160000
DTSTAMP:20260422T050343
CREATED:20250810T114346Z
LAST-MODIFIED:20250810T114346Z
UID:136473-1757606400-1757606400@klimatsverige.se
SUMMARY:11 sep Sorgmarsch för klimatet\, Stockholm
DESCRIPTION:Kl. 16.00\, samling Raoul Wallenbergs Torg. För fjärde året i rad anordnas sorgmarschen i Stockholm. Vi manifesterar i långsam takt genom staden till dova trumslag klädda i svart. Till Hötorget\, därefter till St Clara kyrka. Tal\, musik. Arr: Grand Panthers\, Naturskyddsföreningen\, PRO Stockholms län\, Gretas Gamlingar\, Equmeniakyrkan\, Klimatvandra\, Klimataktion\, Klimatsvaret\, Stockholms Stift\, Rebellmammor och Rebellpappor\, Artister för fred m fl. Läs mer i Klimatkalendern. \n 
URL:https://klimatsverige.se/event/11-sep-sorgmarsch-for-klimatet-stockholm/
END:VEVENT
BEGIN:VEVENT
DTSTART;VALUE=DATE:20250909
DTEND;VALUE=DATE:20250910
DTSTAMP:20260422T050343
CREATED:20250810T114312Z
LAST-MODIFIED:20250810T114312Z
UID:136471-1757376000-1757462399@klimatsverige.se
SUMMARY:9 sep Nationell manifestation vid Riksdagens öppnande
DESCRIPTION:Rebellmammorna manifesterar för tredje året i rad\, vid Mynttorget. Håll utkik efter tid. Läs mer i Klimatkalendern.
URL:https://klimatsverige.se/event/9-sep-nationell-manifestation-vid-riksdagens-oppnande/
END:VEVENT
BEGIN:VEVENT
DTSTART;TZID=Europe/Stockholm:20250831T000000
DTEND;TZID=Europe/Stockholm:20250831T000000
DTSTAMP:20260422T050343
CREATED:20250602T115559Z
LAST-MODIFIED:20250602T115559Z
UID:133108-1756598400-1756598400@klimatsverige.se
SUMMARY:31 aug Vilken framtid drömmer du om  - sista inlämningsdag för Klimataktions tävling
DESCRIPTION:Vi vill se flera positiva bilder av en hållbar framtid\, där vi redan ställt om samhället till det bättre. Tre olika tävlingsklasser finns: text\, foto/bild och film. Tävlingsbidrag skickas senast 31 aug till info@klimataktion.se.
URL:https://klimatsverige.se/event/31-aug-vilken-framtid-drommer-du-om-sista-inlamningsdag-for-klimataktions-tavling/
END:VEVENT
BEGIN:VEVENT
DTSTART;TZID=Europe/Stockholm:20250822T120000
DTEND;TZID=Europe/Stockholm:20250823T120000
DTSTAMP:20260422T050343
CREATED:20250810T114239Z
LAST-MODIFIED:20250810T114239Z
UID:136469-1755864000-1755950400@klimatsverige.se
SUMMARY:22 aug 24 timmars manifestation för klimatet i Malmö
DESCRIPTION:Från fred kl 12 till lörd kl 12\, Gustav Adolfs Torg\, med Rebellmammor och Rebellpappor från hela Sverige. Alla är välkomna! Kulturscen\, familjevänligt! Läs mer i Klimatkalendern.
URL:https://klimatsverige.se/event/22-aug-24-timmars-manifestation-for-klimatet-i-malmo/
END:VEVENT
BEGIN:VEVENT
DTSTART;TZID=Europe/Stockholm:20250821T000000
DTEND;TZID=Europe/Stockholm:20250821T000000
DTSTAMP:20260422T050343
CREATED:20250810T114108Z
LAST-MODIFIED:20250810T114108Z
UID:136465-1755734400-1755734400@klimatsverige.se
SUMMARY:21 aug Klimat\, miljö och mänskliga rättigheter 
DESCRIPTION:Studiecirkel om 6 tillfällen i ABF-huset i Malmö. Läs mer om kursen som är gratis\, anmälan görs här. Läs mer i Kimatkalendern. Arr: ABF och Klimataktion Skåne. \n 
URL:https://klimatsverige.se/event/21-aug-klimat-miljo-och-manskliga-rattigheter/
END:VEVENT
BEGIN:VEVENT
DTSTART;VALUE=DATE:20250821
DTEND;VALUE=DATE:20250822
DTSTAMP:20260422T050343
CREATED:20250602T115501Z
LAST-MODIFIED:20250602T115501Z
UID:133104-1755734400-1755820799@klimatsverige.se
SUMMARY:21 aug Klimat\, miljö och mänskliga rättigheter - kunskap vilja och engagemang\, Malmö
DESCRIPTION:Kurs om 6 tillfällen i ABF-huset i Malmö. Läs mer om kursen som är gratis\, anmälan görs här.
URL:https://klimatsverige.se/event/21-aug-klimat-miljo-och-manskliga-rattigheter-kunskap-vilja-och-engagemang-malmo/
END:VEVENT
BEGIN:VEVENT
DTSTART;VALUE=DATE:20250821
DTEND;VALUE=DATE:20250822
DTSTAMP:20260422T050343
CREATED:20250602T115433Z
LAST-MODIFIED:20251007T172950Z
UID:133102-1755734400-1755820799@klimatsverige.se
SUMMARY:21 aug - 18 dec Distanskurs - En annan ekonomi är möjlig
DESCRIPTION:WEAll Sweden\, Färnebo folkhögskola och Demokratisk Omställning bjuder in till en utökad distanskurs i höst! Sista ansökningsdag 15 juni. Kursen ”En annan ekonomi är möjlig” ger dig en chans att lära dig mer om hur vi praktiskt kan främja olika ekonomiska alternativ. Läs mer och ansök här. \n21 augusti- 18 dec
URL:https://klimatsverige.se/event/21-aug-18-dec-distanskurs-en-annan-ekonomi-ar-mojlig/
END:VEVENT
BEGIN:VEVENT
DTSTART;TZID=Europe/Stockholm:20250820T130000
DTEND;TZID=Europe/Stockholm:20250820T130000
DTSTAMP:20260422T050343
CREATED:20250810T113929Z
LAST-MODIFIED:20250810T113929Z
UID:136461-1755694800-1755694800@klimatsverige.se
SUMMARY:20 aug Grand Panthers strömmar utanför Riksdagen
DESCRIPTION:Samling kl 13.00 Café Källarbyn\, kl 14.30 utanför Riksdagen. Läs mer i Klimatkalendern.
URL:https://klimatsverige.se/event/20-aug-grand-panthers-strommar-utanfor-riksdagen-2/
END:VEVENT
BEGIN:VEVENT
DTSTART;TZID=Europe/Stockholm:20250820T130000
DTEND;TZID=Europe/Stockholm:20250820T130000
DTSTAMP:20260422T050343
CREATED:20250602T115348Z
LAST-MODIFIED:20250602T115348Z
UID:133100-1755694800-1755694800@klimatsverige.se
SUMMARY:20 aug Grand Panthers strömmar utanför Riksdagen
DESCRIPTION:Samling kl 13.00 Café Källarbyn\, kl 14.30 utanför Riksdagen. Läs mer i Klimatkalendern.
URL:https://klimatsverige.se/event/20-aug-grand-panthers-strommar-utanfor-riksdagen/
END:VEVENT
BEGIN:VEVENT
DTSTART;VALUE=DATE:20250819
DTEND;VALUE=DATE:20250825
DTSTAMP:20260422T050343
CREATED:20250810T114136Z
LAST-MODIFIED:20250810T114136Z
UID:136467-1755561600-1756079999@klimatsverige.se
SUMMARY:19–24 augusti Ekumeniska veckan i Stockholm
DESCRIPTION:År 2025 är ett ekumeniskt märkesår. Sveriges kristna råd – kyrkorna tillsammans – har beslutat att ta avstamp i några historiska och ekumeniska händelser för att inspirera till gemenskap och fred i och för samhället nu och i framtiden. Här finns hela programmet.
URL:https://klimatsverige.se/event/19-24-augusti-ekumeniska-veckan-i-stockholm/
END:VEVENT
BEGIN:VEVENT
DTSTART;VALUE=DATE:20250819
DTEND;VALUE=DATE:20250824
DTSTAMP:20260422T050343
CREATED:20250810T113848Z
LAST-MODIFIED:20250810T113848Z
UID:136459-1755561600-1755993599@klimatsverige.se
SUMMARY:19 – 23 aug Global Festival
DESCRIPTION:På Studio SN7\, Stora Nygatan 7 i Gamla Stan\, Stockholm. För andra året i rad anordnar Global Bar Magazine tillsammans med våra partners (LM International\, Palmecentret\, Läkare Utan Gränser och Uppsala Health Summit) Global Festival – en vecka full med samtal och diskussioner. Totalt hålls över 20 samtal under fem dagar. Det handlar om allt från varför volontärer behövs i biståndet till hur äppelpaj bidrar till motståndet mot diktaturen i Belarus. Läs mer här.
URL:https://klimatsverige.se/event/19-23-aug-global-festival/
END:VEVENT
BEGIN:VEVENT
DTSTART;VALUE=DATE:20250819
DTEND;VALUE=DATE:20250825
DTSTAMP:20260422T050343
CREATED:20250602T115528Z
LAST-MODIFIED:20250602T115528Z
UID:133106-1755561600-1756079999@klimatsverige.se
SUMMARY:19–24 augusti\, 100 år sedan Stockholmsmötet - religionernas ansvar för fred.
DESCRIPTION:År 1925 hölls ett ekumeniskt möte på initiativ av den svenske ärkebiskopen Nathan Söderblom på temat fred och gemenskap. Här kan du läsa mer om vad som planeras för högtidlighållandet.
URL:https://klimatsverige.se/event/19-24-augusti-100-ar-sedan-stockholmsmotet-religionernas-ansvar-for-fred/
END:VEVENT
BEGIN:VEVENT
DTSTART;VALUE=DATE:20250807
DTEND;VALUE=DATE:20250811
DTSTAMP:20260422T050343
CREATED:20250602T115318Z
LAST-MODIFIED:20250602T115318Z
UID:133098-1754524800-1754870399@klimatsverige.se
SUMMARY:7 - 10 aug Sommarforum på Färnebo folkhögskola
DESCRIPTION:Rådslag inför valet 2026. Hur lyfter vi solidaritet och rättvis\, hållbar omställning? Hur förena klimatfrågor och sociala frågor lokalt och globalt? Hur stå upp för folkbildning och fördjupad demokrati\, mot rasism och nedrustning av välfärden? Arr. tillsamman med Stad- och landnätverket\, Jordens vänner m fl. Anmälan här. Läs mer om folkhögskolan här.
URL:https://klimatsverige.se/event/7-10-aug-sommarforum-pa-farnebo-folkhogskola/
END:VEVENT
BEGIN:VEVENT
DTSTART;VALUE=DATE:20250804
DTEND;VALUE=DATE:20250807
DTSTAMP:20260422T050343
CREATED:20250602T115244Z
LAST-MODIFIED:20250602T115244Z
UID:133096-1754265600-1754524799@klimatsverige.se
SUMMARY:4 – 9 aug Fältbiologernas sommarforskarskola 
DESCRIPTION:Äger rum på Tovetorps forskarstation i Sörmland på temat skog. Ansök senast 10 juni obs! Vänder sig till dig som ska börja i åk 2 eller 3 i gymnasiet. Mer info och ansökan här.
URL:https://klimatsverige.se/event/4-9-aug-faltbiologernas-sommarforskarskola/
END:VEVENT
BEGIN:VEVENT
DTSTART;VALUE=DATE:20250801
DTEND;VALUE=DATE:20250906
DTSTAMP:20260422T050343
CREATED:20250810T113750Z
LAST-MODIFIED:20250810T113750Z
UID:136457-1754006400-1757116799@klimatsverige.se
SUMMARY:1 aug - 5 sep Pilgrimsvandringar för klimatet på Bohuskusten
DESCRIPTION:Vandringen går över berg och genom skog\, kustnära längs Västkusten och vinkar emmelanåt till Håpets Katedrag när hon pilgrimsseglar söderut. Vi möts i 5 olika hamna under perioden 27 juli – 13 sep\, med ett längre stopp i Göteborg. Arr: Pilgrims Walk for Future. Läs mer här. \nHär blir det klimatmanifestationer: \n1 aug Fjällbacka\, 8 aug Uddevalla\, 15 aug Skärhamn\, 29 aug Göteborg\, 5 sep Strömstad.  \nYtterligare en pilgrimsvandring genomförs i Östergötland\, mellan Linköping och Vadstena 4 sep – 7 sep. Stopp i Vreta kloster\, Borensberg och Motala. Läs mer om  programmet här. \n Foto: Håpets Katedral
URL:https://klimatsverige.se/event/1-aug-5-sep-pilgrimsvandringar-for-klimatet-pa-bohuskusten/
END:VEVENT
BEGIN:VEVENT
DTSTART;VALUE=DATE:20250725
DTEND;VALUE=DATE:20250728
DTSTAMP:20260422T050343
CREATED:20250225T221317Z
LAST-MODIFIED:20250602T115217Z
UID:128239-1753401600-1753660799@klimatsverige.se
SUMMARY:25–27 juli Nordic Peace Alliance Conference
DESCRIPTION:Backagården\, Höör i Skåne. Flera teman\, bl.a. nordisk samordning av fred och klimaträttvisa. Nu finns programmet.
URL:https://klimatsverige.se/event/25-27-juli-nordic-peace-alliance-conference/
END:VEVENT
BEGIN:VEVENT
DTSTART;VALUE=DATE:20250724
DTEND;VALUE=DATE:20250728
DTSTAMP:20260422T050343
CREATED:20250602T115157Z
LAST-MODIFIED:20250602T115157Z
UID:133093-1753315200-1753660799@klimatsverige.se
SUMMARY:24 – 26 juli kommer The HERDS till Stockholm
DESCRIPTION:Ett globalt konstprojekt som bland annat Artister för fred\, Riksteatern och Stockholms Stadsteater från Sverige är engagerade i. Hjordar av djur i papier maché från olika länder flyr norrut. De passerar Skärholmen\, Sergels Torg och Gamla Stan.  Läs mer här. Läs artikel i Syre.
URL:https://klimatsverige.se/event/24-26-juli-kommer-the-herds-till-stockholm/
END:VEVENT
BEGIN:VEVENT
DTSTART;VALUE=DATE:20250703
DTEND;VALUE=DATE:20250707
DTSTAMP:20260422T050343
CREATED:20250602T114652Z
LAST-MODIFIED:20250622T183621Z
UID:133080-1751500800-1751846399@klimatsverige.se
SUMMARY:3 – 6 juli Sommarläger för fred och klimaträttvisa i Lindsberg utanför Falun
DESCRIPTION:Arrangörer är Freds- och klimaträttvisenätverket i samarbete med Jordens Vänner\, Stockholms Fredsförening (Svenska Freds)\, Folk mot DCA samt Falu FN-förening. Program finns här.  Se även Facebook-eventet. 
URL:https://klimatsverige.se/event/3-6-juni-sommarlager-for-fred-och-klimatrattvisa-i-lindsberg-utanfor-falun/
END:VEVENT
BEGIN:VEVENT
DTSTART;VALUE=DATE:20250625
DTEND;VALUE=DATE:20250630
DTSTAMP:20260422T050343
CREATED:20250511T193908Z
LAST-MODIFIED:20250602T115129Z
UID:131998-1750809600-1751241599@klimatsverige.se
SUMMARY:25 - 29 juni på Färnebo folkhögskola - kursen Beredskap tillsammans
DESCRIPTION:Praktiska steg för att skapa ett tryggare samhälle  med ökad förmåga att hantera olika utmaningar och kriser\, t ex att centrala system störs eller en orolig omvärld och extrema väderhändelser skapar krissituationer som vi behöver vara beredda för.  Anmälan här. Läs mer om folkhögskolan här.
URL:https://klimatsverige.se/event/25-29-juni-pa-farnebo-folkhogskola-kursen-beredskap-tillsammans/
END:VEVENT
BEGIN:VEVENT
DTSTART;VALUE=DATE:20250623
DTEND;VALUE=DATE:20250628
DTSTAMP:20260422T050343
CREATED:20250602T115050Z
LAST-MODIFIED:20250602T115050Z
UID:133090-1750636800-1751068799@klimatsverige.se
SUMMARY:23 - 27 juni Almedalsveckan i Visby
DESCRIPTION:Här finns informationen.
URL:https://klimatsverige.se/event/23-27-juni-almedalsveckan-i-visby/
END:VEVENT
BEGIN:VEVENT
DTSTART;VALUE=DATE:20250621
DTEND;VALUE=DATE:20250629
DTSTAMP:20260422T050343
CREATED:20250602T115015Z
LAST-MODIFIED:20250602T115015Z
UID:133088-1750464000-1751155199@klimatsverige.se
SUMMARY:21 – 28 juni Fyra fredskonferenser i Europa 
DESCRIPTION:De äger rum i Haag\, Geneve\, Bryssel och Ramstein 21 – 28 juni. Läs mer från nätverket och on line communityn World Beyond War.
URL:https://klimatsverige.se/event/21-28-juni-fyra-fredskonferenser-i-europa/
END:VEVENT
BEGIN:VEVENT
DTSTART;VALUE=DATE:20250621
DTEND;VALUE=DATE:20250629
DTSTAMP:20260422T050343
CREATED:20250511T193827Z
LAST-MODIFIED:20250511T193827Z
UID:131996-1750464000-1751155199@klimatsverige.se
SUMMARY:21 – 28 juni Fyra lokala fredskonferenser i Europa 
DESCRIPTION:De äger rum i Haag\, Geneve\, Bryssel och Ramstein 21 – 28 juni. Läs mer från nätverket och on line communityn World Beyond War.
URL:https://klimatsverige.se/event/21-28-juni-fyra-lokala-fredskonferenser-i-europa/
END:VEVENT
BEGIN:VEVENT
DTSTART;VALUE=DATE:20250613
DTEND;VALUE=DATE:20250616
DTSTAMP:20260422T050343
CREATED:20250225T221242Z
LAST-MODIFIED:20250225T221242Z
UID:128237-1749772800-1750031999@klimatsverige.se
SUMMARY:13–15 juni Naturskyddsföreningens riksstämma i Gävle
DESCRIPTION:Läs mer här. 
URL:https://klimatsverige.se/event/13-15-juni-naturskyddsforeningens-riksstamma-i-gavle/
END:VEVENT
BEGIN:VEVENT
DTSTART;VALUE=DATE:20250611
DTEND;VALUE=DATE:20250615
DTSTAMP:20260422T050343
CREATED:20250602T114937Z
LAST-MODIFIED:20250602T114937Z
UID:133086-1749600000-1749945599@klimatsverige.se
SUMMARY:11 - 14 juni Järvaveckan i Stockholm
DESCRIPTION:Stiftelsen Järvaveckan finns till för att bidra till ett samhälle där mångfaldens kraft tas tillvara. Järvaveckan på Spånga IP i Rinkeby är platsen där det årliga eventet äger rum. Organisationer kan fortfarande anmäla sig för deltagande. Här finns programmet.
URL:https://klimatsverige.se/event/11-14-juni-jarvaveckan-i-stockholm/
END:VEVENT
BEGIN:VEVENT
DTSTART;TZID=Europe/Stockholm:20250610T130000
DTEND;TZID=Europe/Stockholm:20250610T140000
DTSTAMP:20260422T050343
CREATED:20250602T114826Z
LAST-MODIFIED:20250602T114826Z
UID:133084-1749560400-1749564000@klimatsverige.se
SUMMARY:10 juni digitalt webbinarium med Klimatpolitiska rådet
DESCRIPTION:Kl. 13 – 14. Temat är ”Klimatstyrning med stöd – om tillit\, rättvisa och klimatpolitiskt handlingsutrymme”. Digitalt\, politiker och forskare möts i ett samtal om hur klimtpolitikens legitimitet kan stärkas i praktiken. Läs mer och anmäl dig här.
URL:https://klimatsverige.se/event/10-juni-digitalt-webbinarium-med-klimatpolitiska-radet/
END:VEVENT
BEGIN:VEVENT
DTSTART;TZID=Europe/Stockholm:20250609T173000
DTEND;TZID=Europe/Stockholm:20250609T173000
DTSTAMP:20260422T050343
CREATED:20250602T114732Z
LAST-MODIFIED:20250602T114732Z
UID:133082-1749490200-1749490200@klimatsverige.se
SUMMARY:9 juni Picknick Stockholm - Välbefinnandeekonomi och Donutekonomi
DESCRIPTION:Kl. 17.30 och framåt i Rålambshovparken\, vid ett stort träd nära Boule Bar\, se skyltar från WeAll och DEAL. Vi ses för att prata om hur vi kan arbeta för en ekonomi i Sverige som bidrar till människors välmående och samtidigt håller sig inom planetens gränser. Arr. WeAll Sweden och Doughnut Economics Action Lab.
URL:https://klimatsverige.se/event/9-juni-picknick-stockholm-valbefinnandeekonomi-och-donutekonomi/
END:VEVENT
BEGIN:VEVENT
DTSTART;TZID=Europe/Stockholm:20250605T173000
DTEND;TZID=Europe/Stockholm:20250605T173000
DTSTAMP:20260422T050343
CREATED:20250602T114555Z
LAST-MODIFIED:20250602T114555Z
UID:133078-1749144600-1749144600@klimatsverige.se
SUMMARY:5 juni Extra Miljöl med We Dont Have Time 
DESCRIPTION:Kl 17.30 Malmgårdsvägen 63  i Stockholm\, hos WDHT. Läs mer i Klimatkalendern.
URL:https://klimatsverige.se/event/5-juni-extra-miljol-med-we-dont-have-time/
END:VEVENT
BEGIN:VEVENT
DTSTART;TZID=Europe/Stockholm:20250605T160000
DTEND;TZID=Europe/Stockholm:20250605T180000
DTSTAMP:20260422T050343
CREATED:20250602T114432Z
LAST-MODIFIED:20250602T114432Z
UID:133074-1749139200-1749146400@klimatsverige.se
SUMMARY:5 juni Ett hållbart Stockholm – ett levande Skeppsbron
DESCRIPTION:Kl 16-18 på Skeppsbron. Läs mer här. Arr. Nätverket Skeppsbroaktionen som består av 17 organisationer\, på initiativ av Alternativ Stad. Läs mer i Klimatkalendern.
URL:https://klimatsverige.se/event/5-juni-ett-hallbart-stockholm-ett-levande-skeppsbron/
END:VEVENT
BEGIN:VEVENT
DTSTART;TZID=Europe/Stockholm:20250605T121500
DTEND;TZID=Europe/Stockholm:20250605T130000
DTSTAMP:20260422T050343
CREATED:20250602T114520Z
LAST-MODIFIED:20250602T114520Z
UID:133076-1749125700-1749128400@klimatsverige.se
SUMMARY:5 juni Fråga en Lundaforskare 
DESCRIPTION:Kl 12.15. Lunchsamtalsserie i samarrangemang med Medborgarskolan\, med docent Susanne Arvidsson om CRSD och EU:s striktare regler för företags hållbarnhetsrapportering. Kaffe och smörgåsar serveras. Arr. FFF Lund\, Save our Planet\, Cykelkraft – Bike Power.
URL:https://klimatsverige.se/event/5-juni-fraga-en-lundaforskare/
END:VEVENT
END:VCALENDAR