BEGIN:VCALENDAR
VERSION:2.0
PRODID:-//KLIMATSVERIGE - ECPv6.15.16//NONSGML v1.0//EN
CALSCALE:GREGORIAN
METHOD:PUBLISH
X-WR-CALNAME:KLIMATSVERIGE
X-ORIGINAL-URL:https://klimatsverige.se
X-WR-CALDESC:Händelser för KLIMATSVERIGE
REFRESH-INTERVAL;VALUE=DURATION:PT1H
X-Robots-Tag:noindex
X-PUBLISHED-TTL:PT1H
BEGIN:VTIMEZONE
TZID:Europe/Stockholm
BEGIN:DAYLIGHT
TZOFFSETFROM:+0100
TZOFFSETTO:+0200
TZNAME:CEST
DTSTART:20240331T010000
END:DAYLIGHT
BEGIN:STANDARD
TZOFFSETFROM:+0200
TZOFFSETTO:+0100
TZNAME:CET
DTSTART:20241027T010000
END:STANDARD
BEGIN:DAYLIGHT
TZOFFSETFROM:+0100
TZOFFSETTO:+0200
TZNAME:CEST
DTSTART:20250330T010000
END:DAYLIGHT
BEGIN:STANDARD
TZOFFSETFROM:+0200
TZOFFSETTO:+0100
TZNAME:CET
DTSTART:20251026T010000
END:STANDARD
BEGIN:DAYLIGHT
TZOFFSETFROM:+0100
TZOFFSETTO:+0200
TZNAME:CEST
DTSTART:20260329T010000
END:DAYLIGHT
BEGIN:STANDARD
TZOFFSETFROM:+0200
TZOFFSETTO:+0100
TZNAME:CET
DTSTART:20261025T010000
END:STANDARD
END:VTIMEZONE
BEGIN:VEVENT
DTSTART;VALUE=DATE:20250623
DTEND;VALUE=DATE:20250628
DTSTAMP:20260422T081725
CREATED:20250602T115050Z
LAST-MODIFIED:20250602T115050Z
UID:133090-1750636800-1751068799@klimatsverige.se
SUMMARY:23 - 27 juni Almedalsveckan i Visby
DESCRIPTION:Här finns informationen.
URL:https://klimatsverige.se/event/23-27-juni-almedalsveckan-i-visby/
END:VEVENT
BEGIN:VEVENT
DTSTART;VALUE=DATE:20250621
DTEND;VALUE=DATE:20250629
DTSTAMP:20260422T081725
CREATED:20250602T115015Z
LAST-MODIFIED:20250602T115015Z
UID:133088-1750464000-1751155199@klimatsverige.se
SUMMARY:21 – 28 juni Fyra fredskonferenser i Europa 
DESCRIPTION:De äger rum i Haag\, Geneve\, Bryssel och Ramstein 21 – 28 juni. Läs mer från nätverket och on line communityn World Beyond War.
URL:https://klimatsverige.se/event/21-28-juni-fyra-fredskonferenser-i-europa/
END:VEVENT
BEGIN:VEVENT
DTSTART;VALUE=DATE:20250621
DTEND;VALUE=DATE:20250629
DTSTAMP:20260422T081725
CREATED:20250511T193827Z
LAST-MODIFIED:20250511T193827Z
UID:131996-1750464000-1751155199@klimatsverige.se
SUMMARY:21 – 28 juni Fyra lokala fredskonferenser i Europa 
DESCRIPTION:De äger rum i Haag\, Geneve\, Bryssel och Ramstein 21 – 28 juni. Läs mer från nätverket och on line communityn World Beyond War.
URL:https://klimatsverige.se/event/21-28-juni-fyra-lokala-fredskonferenser-i-europa/
END:VEVENT
BEGIN:VEVENT
DTSTART;VALUE=DATE:20250613
DTEND;VALUE=DATE:20250616
DTSTAMP:20260422T081725
CREATED:20250225T221242Z
LAST-MODIFIED:20250225T221242Z
UID:128237-1749772800-1750031999@klimatsverige.se
SUMMARY:13–15 juni Naturskyddsföreningens riksstämma i Gävle
DESCRIPTION:Läs mer här. 
URL:https://klimatsverige.se/event/13-15-juni-naturskyddsforeningens-riksstamma-i-gavle/
END:VEVENT
BEGIN:VEVENT
DTSTART;VALUE=DATE:20250611
DTEND;VALUE=DATE:20250615
DTSTAMP:20260422T081725
CREATED:20250602T114937Z
LAST-MODIFIED:20250602T114937Z
UID:133086-1749600000-1749945599@klimatsverige.se
SUMMARY:11 - 14 juni Järvaveckan i Stockholm
DESCRIPTION:Stiftelsen Järvaveckan finns till för att bidra till ett samhälle där mångfaldens kraft tas tillvara. Järvaveckan på Spånga IP i Rinkeby är platsen där det årliga eventet äger rum. Organisationer kan fortfarande anmäla sig för deltagande. Här finns programmet.
URL:https://klimatsverige.se/event/11-14-juni-jarvaveckan-i-stockholm/
END:VEVENT
BEGIN:VEVENT
DTSTART;TZID=Europe/Stockholm:20250610T130000
DTEND;TZID=Europe/Stockholm:20250610T140000
DTSTAMP:20260422T081725
CREATED:20250602T114826Z
LAST-MODIFIED:20250602T114826Z
UID:133084-1749560400-1749564000@klimatsverige.se
SUMMARY:10 juni digitalt webbinarium med Klimatpolitiska rådet
DESCRIPTION:Kl. 13 – 14. Temat är ”Klimatstyrning med stöd – om tillit\, rättvisa och klimatpolitiskt handlingsutrymme”. Digitalt\, politiker och forskare möts i ett samtal om hur klimtpolitikens legitimitet kan stärkas i praktiken. Läs mer och anmäl dig här.
URL:https://klimatsverige.se/event/10-juni-digitalt-webbinarium-med-klimatpolitiska-radet/
END:VEVENT
BEGIN:VEVENT
DTSTART;TZID=Europe/Stockholm:20250609T173000
DTEND;TZID=Europe/Stockholm:20250609T173000
DTSTAMP:20260422T081725
CREATED:20250602T114732Z
LAST-MODIFIED:20250602T114732Z
UID:133082-1749490200-1749490200@klimatsverige.se
SUMMARY:9 juni Picknick Stockholm - Välbefinnandeekonomi och Donutekonomi
DESCRIPTION:Kl. 17.30 och framåt i Rålambshovparken\, vid ett stort träd nära Boule Bar\, se skyltar från WeAll och DEAL. Vi ses för att prata om hur vi kan arbeta för en ekonomi i Sverige som bidrar till människors välmående och samtidigt håller sig inom planetens gränser. Arr. WeAll Sweden och Doughnut Economics Action Lab.
URL:https://klimatsverige.se/event/9-juni-picknick-stockholm-valbefinnandeekonomi-och-donutekonomi/
END:VEVENT
BEGIN:VEVENT
DTSTART;TZID=Europe/Stockholm:20250605T173000
DTEND;TZID=Europe/Stockholm:20250605T173000
DTSTAMP:20260422T081725
CREATED:20250602T114555Z
LAST-MODIFIED:20250602T114555Z
UID:133078-1749144600-1749144600@klimatsverige.se
SUMMARY:5 juni Extra Miljöl med We Dont Have Time 
DESCRIPTION:Kl 17.30 Malmgårdsvägen 63  i Stockholm\, hos WDHT. Läs mer i Klimatkalendern.
URL:https://klimatsverige.se/event/5-juni-extra-miljol-med-we-dont-have-time/
END:VEVENT
BEGIN:VEVENT
DTSTART;TZID=Europe/Stockholm:20250605T160000
DTEND;TZID=Europe/Stockholm:20250605T180000
DTSTAMP:20260422T081725
CREATED:20250602T114432Z
LAST-MODIFIED:20250602T114432Z
UID:133074-1749139200-1749146400@klimatsverige.se
SUMMARY:5 juni Ett hållbart Stockholm – ett levande Skeppsbron
DESCRIPTION:Kl 16-18 på Skeppsbron. Läs mer här. Arr. Nätverket Skeppsbroaktionen som består av 17 organisationer\, på initiativ av Alternativ Stad. Läs mer i Klimatkalendern.
URL:https://klimatsverige.se/event/5-juni-ett-hallbart-stockholm-ett-levande-skeppsbron/
END:VEVENT
BEGIN:VEVENT
DTSTART;TZID=Europe/Stockholm:20250605T121500
DTEND;TZID=Europe/Stockholm:20250605T130000
DTSTAMP:20260422T081725
CREATED:20250602T114520Z
LAST-MODIFIED:20250602T114520Z
UID:133076-1749125700-1749128400@klimatsverige.se
SUMMARY:5 juni Fråga en Lundaforskare 
DESCRIPTION:Kl 12.15. Lunchsamtalsserie i samarrangemang med Medborgarskolan\, med docent Susanne Arvidsson om CRSD och EU:s striktare regler för företags hållbarnhetsrapportering. Kaffe och smörgåsar serveras. Arr. FFF Lund\, Save our Planet\, Cykelkraft – Bike Power.
URL:https://klimatsverige.se/event/5-juni-fraga-en-lundaforskare/
END:VEVENT
BEGIN:VEVENT
DTSTART;VALUE=DATE:20250605
DTEND;VALUE=DATE:20250606
DTSTAMP:20260422T081725
CREATED:20250602T114331Z
LAST-MODIFIED:20250602T114331Z
UID:133072-1749081600-1749167999@klimatsverige.se
SUMMARY:5 juni Världsmiljödagen
DESCRIPTION:Initiativ av FN\, UNEP. Plastnedskräpning i naturen är årets tema. Läs mer. Insatser från lokala kretsar av Naturskyddsföreningen\, bla i Motala.
URL:https://klimatsverige.se/event/5-juni-varldsmiljodagen/
END:VEVENT
BEGIN:VEVENT
DTSTART;TZID=Europe/Stockholm:20250603T183000
DTEND;TZID=Europe/Stockholm:20250603T200000
DTSTAMP:20260422T081725
CREATED:20250602T114305Z
LAST-MODIFIED:20250602T114305Z
UID:133070-1748975400-1748980800@klimatsverige.se
SUMMARY:3 juni Webbinarium Färnebo - Återskapa naturens kylande kretslopp
DESCRIPTION:Kl. 18.30 – 20.00. Hur kan ett förändrat naturbruk bidra till ett kallare klimat? Är samhället redo att betala för det? Arr. Färnebo folkhögskola m fl.  Anmälan här.
URL:https://klimatsverige.se/event/3-juni-webbinarium-farnebo-aterskapa-naturens-kylande-kretslopp/
END:VEVENT
BEGIN:VEVENT
DTSTART;TZID=Europe/Stockholm:20250603T183000
DTEND;TZID=Europe/Stockholm:20250603T200000
DTSTAMP:20260422T081725
CREATED:20250511T193755Z
LAST-MODIFIED:20250511T193755Z
UID:131994-1748975400-1748980800@klimatsverige.se
SUMMARY:3 juni Webbinarium - Kan vi återskapa naturens kylande kretslopp?
DESCRIPTION:Kl. 18.30 – 20.00. Hur kan ett förändrat naturbruk bidra till ett kallare klimat? Är samhället redo att betala för det? Vi diskuterar också vad civilsamhället och lokala producenter kan göra på egen hand för att utveckla en hållbarare förvaltning av vatten och landskap. Arr. Färnebo folkhögskola m fl.  Anmälan här.
URL:https://klimatsverige.se/event/3-juni-webbinarium-kan-vi-aterskapa-naturens-kylande-kretslopp/
END:VEVENT
BEGIN:VEVENT
DTSTART;VALUE=DATE:20250603
DTEND;VALUE=DATE:20250604
DTSTAMP:20260422T081725
CREATED:20250602T114228Z
LAST-MODIFIED:20250602T114228Z
UID:133068-1748908800-1748995199@klimatsverige.se
SUMMARY:3 juni Cykelns Dag -  World Bicycle Day
DESCRIPTION:Olika aktiviteter runt om i landet\, bland annat av Naturskyddsföreningen i Höör\, Skåne. Läs här.
URL:https://klimatsverige.se/event/3-juni-cykelns-dag-world-bicycle-day/
END:VEVENT
BEGIN:VEVENT
DTSTART;VALUE=DATE:20250524
DTEND;VALUE=DATE:20250529
DTSTAMP:20260422T081725
CREATED:20250225T221210Z
LAST-MODIFIED:20250225T221210Z
UID:128235-1748044800-1748476799@klimatsverige.se
SUMMARY:24–28 maj\, World Peace Award\, en internationell fredskonferens i Stockholm. 
DESCRIPTION:På temat ”World Peace begins within ourselves” mer info här.
URL:https://klimatsverige.se/event/24-28-maj-world-peace-award-en-internationell-fredskonferens-i-stockholm/
END:VEVENT
BEGIN:VEVENT
DTSTART;TZID=Europe/Stockholm:20250521T183000
DTEND;TZID=Europe/Stockholm:20250521T200000
DTSTAMP:20260422T081725
CREATED:20250511T193715Z
LAST-MODIFIED:20250511T193715Z
UID:131992-1747852200-1747857600@klimatsverige.se
SUMMARY:21 maj Webbinarium - Är en annan ekonomi möjlig?
DESCRIPTION:Kl. 18.30 – 20.00\, online via zoom. Finns det alternativ till dagens ohållbara ekonomi? Kan företag\, kommuner\, lokala orter såväl som hela regioner och nationer utveckla en ny ekonomisk praktik? Vad kan ny politik\, folkrörelser och demokrati på arbetsplatsen spela för roll i att förändra den rådande ekonomiska modellen? Arr. WeAll och Färnebo folkhögskola . Anmäl dig här \n 
URL:https://klimatsverige.se/event/21-maj-webbinarium-ar-en-annan-ekonomi-mojlig/
END:VEVENT
BEGIN:VEVENT
DTSTART;TZID=Europe/Stockholm:20250521T183000
DTEND;TZID=Europe/Stockholm:20250521T200000
DTSTAMP:20260422T081725
CREATED:20250201T221839Z
LAST-MODIFIED:20250201T221839Z
UID:126949-1747852200-1747857600@klimatsverige.se
SUMMARY:Lyssningscirklar i klimaträttviserörelsen
DESCRIPTION:Kl. 18.30- 20.00 en gång i månaden i Kafé Dynamos lokaler på Södermannagatan 38 i Stockholm.  Följande datum: 23 jan\, 19 feb\, 23 mars\, 24 april och 21 maj.  \nVi använder lyssningscirklar som verktyg för att tänka klarare kring hur agera på klimatkrisen\, liksom på rasism. Att stå inför klimatsammanbrott och global orättvisa väcker känslor som rädsla\, ilska\, uppgivenhet och sorg. Ömsesidigt lyssnande kan skapa en trygg plats att uttrycka våra egna känslor och lyssna på andras. Anmäl er genom att skicka ett direktmeddelande på Facebook till Karin Lundberg. Läs mer på Sustaining All Life.
URL:https://klimatsverige.se/event/lyssningscirklar-i-klimatrattviserorelsen-4/
END:VEVENT
BEGIN:VEVENT
DTSTART;VALUE=DATE:20250518
DTEND;VALUE=DATE:20250519
DTSTAMP:20260422T081725
CREATED:20250511T193233Z
LAST-MODIFIED:20250511T193304Z
UID:131981-1747526400-1747612799@klimatsverige.se
SUMMARY:18 maj AwareNest workshopfestival i Göteborg
DESCRIPTION:Plats Göteborgs Föreningscenter\, Södra Allégatan 1B\, Plats: Göteborg. Anmäl dig via länken. Efter tre magiska upplagor i Stockholm tar vi nu AwareNest Festival till Göteborg för allra första gången!  En heldag fylld med interaktiva workshops om klimat\, biodiversitet\, hållbar fashion och digitalisering\, hav\, och mänskligt samspel – allt i en härlig och nyfiken gemenskap. Vår workshopfestival bjuder på kreativa workshops\, samskapande\, ärliga samtal. Och framför allt: – den där känslan av att höra till en community som delar dina värderingar\, dina tankar och ditt hopp. Kom själv eller ta med en vän – vi ses i Göteborg!
URL:https://klimatsverige.se/event/18-maj-awarenest-workshopfestival-i-goteborg/
END:VEVENT
BEGIN:VEVENT
DTSTART;TZID=Europe/Stockholm:20250517T130000
DTEND;TZID=Europe/Stockholm:20250517T160000
DTSTAMP:20260422T081725
CREATED:20250511T193600Z
LAST-MODIFIED:20250511T193600Z
UID:131990-1747486800-1747497600@klimatsverige.se
SUMMARY:17 maj Omsorg om allt levande - odla med Rebellmammorna och Odla ihop
DESCRIPTION:Kl. 13.00 – 16.00 i Tanto\, bredvid lekplats Draken och Drakenbergsparken i Stockholm. Välkommen till en eftermiddag om biologisk mångfald för barn och vuxna! Vad sägs om fröbomber\, göra en biholk\, permakultur\, skogsträdgård\, kompostkapell\, brev till jorden\, sticka\, fika\, naturbingo mm? Arr. Rebellmammorna och föreningen Odla ihop. Mer info om odlarna här.
URL:https://klimatsverige.se/event/17-maj-omsorg-om-allt-levande-odla-med-rebellmammorna-och-odla-ihop/
END:VEVENT
BEGIN:VEVENT
DTSTART;TZID=Europe/Stockholm:20250513T170000
DTEND;TZID=Europe/Stockholm:20250513T193000
DTSTAMP:20260422T081725
CREATED:20250511T193516Z
LAST-MODIFIED:20250511T193516Z
UID:131988-1747155600-1747164600@klimatsverige.se
SUMMARY:13 maj Kräv att Nordens folkhälsomyndigheter agerar 
DESCRIPTION:Kl. 17 – 19.30 i centrala Göteborg. Sverige står värd för den nordiska folkhälsokonferensen Public Health in a Changing World.  Extinction Rebellion organiserar en massaktion för att påminna konferensdeltagarna och allmänheten om att klimat\, miljö och hälsa är tätt sammanlänkade – och att Folkhälsomyndigheten måste tala klarspråk och agera för att förhindra de värsta konsekvenserna av klimatkrisen. Mer info här.
URL:https://klimatsverige.se/event/13-maj-krav-att-nordens-folkhalsomyndigheter-agerar/
END:VEVENT
BEGIN:VEVENT
DTSTART;TZID=Europe/Stockholm:20250513T170000
DTEND;TZID=Europe/Stockholm:20250513T193000
DTSTAMP:20260422T081725
CREATED:20250331T120611Z
LAST-MODIFIED:20250331T120611Z
UID:129967-1747155600-1747164600@klimatsverige.se
SUMMARY:13 maj Kräv klimathandling av Nordens folkhälsomyndigheter 
DESCRIPTION:Kl. 17 – 19.30 i centrala Göteborg. Sverige står värd för den nordiska folkhälsokonferensen Public Health in a Changing World.  Extinction Rebellion organiserar en massaktion för att påminna konferensdeltagarna och allmänheten om att klimat\, miljö och hälsa är tätt sammanlänkade – och att Folkhälsomyndigheten måste tala klarspråk och agera för att förhindra de värsta konsekvenserna av klimatkrisen. Mer info här.
URL:https://klimatsverige.se/event/13-maj-krav-klimathandling-av-nordens-folkhalsomyndigheter/
END:VEVENT
BEGIN:VEVENT
DTSTART;TZID=Europe/Stockholm:20250512T183000
DTEND;TZID=Europe/Stockholm:20250512T200000
DTSTAMP:20260422T081725
CREATED:20250511T193438Z
LAST-MODIFIED:20250511T193438Z
UID:131986-1747074600-1747080000@klimatsverige.se
SUMMARY:12 maj Webbinarium om Färnebo folkhögskolas kurs Framtidslandet
DESCRIPTION:18.30 – 20.00. Northvolt\, vätgasdrivna stålverk\, nya gruvor – grön omställning eller fortsatt kolonialism? Möt kursen Framtidslandet som granskat den gröna industriomställningen i norr. De har mött samer\, kommuner\, företag och miljöengagerade. Vad krävs för att den gröna omställningen ska göras hållbar? Anmälan här.
URL:https://klimatsverige.se/event/12-maj-webbinarium-om-farnebo-folkhogskolas-kurs-framtidslandet/
END:VEVENT
BEGIN:VEVENT
DTSTART;TZID=Europe/Stockholm:20250511T080000
DTEND;TZID=Europe/Stockholm:20250511T170000
DTSTAMP:20260422T081725
CREATED:20250511T193328Z
LAST-MODIFIED:20250511T193328Z
UID:131984-1746950400-1746982800@klimatsverige.se
SUMMARY:21 maj  - Lyssningscirklar i klimaträttviserörelsen 
DESCRIPTION:Kl. 18.30- 20.00 i Kafé Dynamos lokaler på Södermannagatan 38 i Stockholm. Vi använder lyssningscirklar som verktyg för att tänka klarare kring hur agera på klimatkrisen\, liksom på rasism. Att stå inför klimatsammanbrott och global orättvisa väcker känslor som rädsla\, ilska\, uppgivenhet och sorg. Ömsesidigt lyssnande kan skapa en trygg plats att uttrycka våra egna känslor och lyssna på andras. Anmäl er genom att skicka ett direktmeddelande på Facebook till Karin Lundberg. Läs mer på Sustaining All Life. \n 
URL:https://klimatsverige.se/event/21-maj-lyssningscirklar-i-klimatrattviserorelsen/
END:VEVENT
BEGIN:VEVENT
DTSTART;VALUE=DATE:20250508
DTEND;VALUE=DATE:20250510
DTSTAMP:20260422T081725
CREATED:20250331T120530Z
LAST-MODIFIED:20250331T120530Z
UID:129965-1746662400-1746835199@klimatsverige.se
SUMMARY:8–9 maj 80-årsminnet av fred i Europa.
DESCRIPTION:Skriv upp datumen! Info kommer framöver.
URL:https://klimatsverige.se/event/8-9-maj-80-arsminnet-av-fred-i-europa-2/
END:VEVENT
BEGIN:VEVENT
DTSTART;VALUE=DATE:20250508
DTEND;VALUE=DATE:20250510
DTSTAMP:20260422T081725
CREATED:20250225T221135Z
LAST-MODIFIED:20250225T221135Z
UID:128233-1746662400-1746835199@klimatsverige.se
SUMMARY:8–9 maj 80-årsminnet av fred i Europa
DESCRIPTION:Skriv upp datumet! Info kommer framöver.
URL:https://klimatsverige.se/event/8-9-maj-80-arsminnet-av-fred-i-europa/
END:VEVENT
BEGIN:VEVENT
DTSTART;TZID=Europe/Stockholm:20250506T093000
DTEND;TZID=Europe/Stockholm:20250506T114500
DTSTAMP:20260422T081725
CREATED:20250331T120504Z
LAST-MODIFIED:20250331T120504Z
UID:129963-1746523800-1746531900@klimatsverige.se
SUMMARY:6 maj Matbanksrapporten släpps
DESCRIPTION:Kl. 9.30 – 11.45\, Moderna Museet\, Biografen\, i Stockholm. Rapporten presenteras av den ideella organisationen Ätbart och följs av ett panelsamtal. Den handlar om den överblivna matens resa\, en snårig väg av mål- och intressekonflikter. Ätbart arbetar mot en värld utan matsvinn och matfattigdom. Organisationen fick ett pris av Änglamark 2024. Anmälan till seminariet senast 25 april här.
URL:https://klimatsverige.se/event/6-maj-matbanksrapporten-slapps/
END:VEVENT
BEGIN:VEVENT
DTSTART;VALUE=DATE:20250426
DTEND;VALUE=DATE:20250427
DTSTAMP:20260422T081725
CREATED:20250331T120415Z
LAST-MODIFIED:20250331T120415Z
UID:129961-1745625600-1745711999@klimatsverige.se
SUMMARY:26 april Global manifestation med Rebellmammorna
DESCRIPTION:Rebellmammor på olika orter i Sverige kommer att delta i en global klimatmanifestation med vårt internationella nätverk Mothers* Rebellion den 26 april. Temat kommer att vara #protectwhatwelove och i Sverige kommer fokus att ligga på skogen. Mer information här\, bl a om vilka orter som är aktuella.
URL:https://klimatsverige.se/event/26-april-global-manifestation-med-rebellmammorna-2/
END:VEVENT
BEGIN:VEVENT
DTSTART;VALUE=DATE:20250426
DTEND;VALUE=DATE:20250427
DTSTAMP:20260422T081725
CREATED:20250225T221102Z
LAST-MODIFIED:20250225T221102Z
UID:128231-1745625600-1745711999@klimatsverige.se
SUMMARY:26 april Global manifestation med Rebellmammorna
DESCRIPTION:Skriv upp datumet! Rebellmammor på olika orter i Sverige kommer att delta i en global klimatmanifestation med vårt internationella nätverk Mothers* Rebellion den 26 april. Temat kommer att vara #protectwhatyoulove och i Sverige kommer fokus att ligga på skogen. Mer information kommer.
URL:https://klimatsverige.se/event/26-april-global-manifestation-med-rebellmammorna/
END:VEVENT
BEGIN:VEVENT
DTSTART;TZID=Europe/Stockholm:20250424T183000
DTEND;TZID=Europe/Stockholm:20250521T200000
DTSTAMP:20260422T081725
CREATED:20250331T120258Z
LAST-MODIFIED:20250331T120258Z
UID:129957-1745519400-1747857600@klimatsverige.se
SUMMARY:24 april och 21 maj  - Lyssningscirklar i klimaträttviserörelsen 
DESCRIPTION:Kl. 18.30- 20.00 en gång i månaden i Kafé Dynamos lokaler på Södermannagatan 38 i Stockholm. Vi använder lyssningscirklar som verktyg för att tänka klarare kring hur agera på klimatkrisen\, liksom på rasism. Att stå inför klimatsammanbrott och global orättvisa väcker känslor som rädsla\, ilska\, uppgivenhet och sorg. Ömsesidigt lyssnande kan skapa en trygg plats att uttrycka våra egna känslor och lyssna på andras. Anmäl er genom att skicka ett direktmeddelande på Facebook till Karin Lundberg. Läs mer på Sustaining All Life.
URL:https://klimatsverige.se/event/24-april-och-21-maj-lyssningscirklar-i-klimatrattviserorelsen/
END:VEVENT
BEGIN:VEVENT
DTSTART;TZID=Europe/Stockholm:20250424T183000
DTEND;TZID=Europe/Stockholm:20250424T200000
DTSTAMP:20260422T081725
CREATED:20250201T221801Z
LAST-MODIFIED:20250201T221801Z
UID:126947-1745519400-1745524800@klimatsverige.se
SUMMARY:Lyssningscirklar i klimaträttviserörelsen
DESCRIPTION:Kl. 18.30- 20.00 en gång i månaden i Kafé Dynamos lokaler på Södermannagatan 38 i Stockholm.  Följande datum: 23 jan\, 19 feb\, 23 mars\, 24 april och 21 maj.  \nVi använder lyssningscirklar som verktyg för att tänka klarare kring hur agera på klimatkrisen\, liksom på rasism. Att stå inför klimatsammanbrott och global orättvisa väcker känslor som rädsla\, ilska\, uppgivenhet och sorg. Ömsesidigt lyssnande kan skapa en trygg plats att uttrycka våra egna känslor och lyssna på andras. Anmäl er genom att skicka ett direktmeddelande på Facebook till Karin Lundberg. Läs mer på Sustaining All Life.
URL:https://klimatsverige.se/event/lyssningscirklar-i-klimatrattviserorelsen-3/
END:VEVENT
END:VCALENDAR